BEGIN:VCALENDAR
VERSION:2.0
PRODID:-//SP Davos - ECPv6.15.16//NONSGML v1.0//EN
CALSCALE:GREGORIAN
METHOD:PUBLISH
X-WR-CALNAME:SP Davos
X-ORIGINAL-URL:https://spdavos.ch
X-WR-CALDESC:Veranstaltungen im SP Davos
REFRESH-INTERVAL;VALUE=DURATION:PT1H
X-Robots-Tag:noindex
X-PUBLISHED-TTL:PT1H
BEGIN:VTIMEZONE
TZID:Europe/Zurich
BEGIN:DAYLIGHT
TZOFFSETFROM:+0100
TZOFFSETTO:+0200
TZNAME:CEST
DTSTART:20250330T010000
END:DAYLIGHT
BEGIN:STANDARD
TZOFFSETFROM:+0200
TZOFFSETTO:+0100
TZNAME:CET
DTSTART:20251026T010000
END:STANDARD
BEGIN:DAYLIGHT
TZOFFSETFROM:+0100
TZOFFSETTO:+0200
TZNAME:CEST
DTSTART:20260329T010000
END:DAYLIGHT
BEGIN:STANDARD
TZOFFSETFROM:+0200
TZOFFSETTO:+0100
TZNAME:CET
DTSTART:20261025T010000
END:STANDARD
BEGIN:DAYLIGHT
TZOFFSETFROM:+0100
TZOFFSETTO:+0200
TZNAME:CEST
DTSTART:20270328T010000
END:DAYLIGHT
BEGIN:STANDARD
TZOFFSETFROM:+0200
TZOFFSETTO:+0100
TZNAME:CET
DTSTART:20271031T010000
END:STANDARD
END:VTIMEZONE
BEGIN:VEVENT
DTSTART;TZID=Europe/Zurich:20260507T200000
DTEND;TZID=Europe/Zurich:20260507T230000
DTSTAMP:20260422T134241
CREATED:20241128T115143Z
LAST-MODIFIED:20251210T121356Z
UID:10000067-1778184000-1778194800@spdavos.ch
SUMMARY:Mitgliederversammlung SP Davos
DESCRIPTION:
URL:https://spdavos.ch/evenement/mitgliederversammlung-sp-davos/2026-05-07/
LOCATION:Hotel Grischa
CATEGORIES:Mitgliederversammlung
END:VEVENT
BEGIN:VEVENT
DTSTART;TZID=Europe/Zurich:20260528T140000
DTEND;TZID=Europe/Zurich:20260528T180000
DTSTAMP:20260422T134241
CREATED:20241128T120307Z
LAST-MODIFIED:20251210T121000Z
UID:10000063-1779976800-1779991200@spdavos.ch
SUMMARY:Sitzung Grosser Landrat
DESCRIPTION:
URL:https://spdavos.ch/evenement/sitzung-grosser-landrat/2026-05-28/
LOCATION:Landratssaal Davos\, Promenade 43\, Davos Platz\, 7270\, Switzerland
END:VEVENT
BEGIN:VEVENT
DTSTART;VALUE=DATE:20260614
DTEND;VALUE=DATE:20260615
DTSTAMP:20260422T134241
CREATED:20251210T121551Z
LAST-MODIFIED:20251210T121551Z
UID:10000072-1781395200-1781479800@spdavos.ch
SUMMARY:Abstimmungssontag
DESCRIPTION:
URL:https://spdavos.ch/evenement/abstimmungssontag/2026-06-14/
END:VEVENT
BEGIN:VEVENT
DTSTART;TZID=Europe/Zurich:20260625T200000
DTEND;TZID=Europe/Zurich:20260625T230000
DTSTAMP:20260422T134241
CREATED:20241128T115143Z
LAST-MODIFIED:20251210T121356Z
UID:10000068-1782417600-1782428400@spdavos.ch
SUMMARY:Mitgliederversammlung SP Davos
DESCRIPTION:
URL:https://spdavos.ch/evenement/mitgliederversammlung-sp-davos/2026-06-25/
LOCATION:Hotel Grischa
CATEGORIES:Mitgliederversammlung
END:VEVENT
BEGIN:VEVENT
DTSTART;TZID=Europe/Zurich:20260702T140000
DTEND;TZID=Europe/Zurich:20260702T180000
DTSTAMP:20260422T134241
CREATED:20241128T120307Z
LAST-MODIFIED:20251210T121000Z
UID:10000064-1783000800-1783015200@spdavos.ch
SUMMARY:Sitzung Grosser Landrat
DESCRIPTION:
URL:https://spdavos.ch/evenement/sitzung-grosser-landrat/2026-07-02/
LOCATION:Landratssaal Davos\, Promenade 43\, Davos Platz\, 7270\, Switzerland
END:VEVENT
BEGIN:VEVENT
DTSTART;TZID=Europe/Zurich:20260806T200000
DTEND;TZID=Europe/Zurich:20260806T230000
DTSTAMP:20260422T134241
CREATED:20241128T115143Z
LAST-MODIFIED:20251210T121356Z
UID:10000069-1786046400-1786057200@spdavos.ch
SUMMARY:Mitgliederversammlung SP Davos
DESCRIPTION:
URL:https://spdavos.ch/evenement/mitgliederversammlung-sp-davos/2026-08-06/
LOCATION:Hotel Grischa
CATEGORIES:Mitgliederversammlung
END:VEVENT
BEGIN:VEVENT
DTSTART;TZID=Europe/Zurich:20260807T170000
DTEND;TZID=Europe/Zurich:20260807T220000
DTSTAMP:20260422T134241
CREATED:20240808T160246Z
LAST-MODIFIED:20251210T121242Z
UID:10000028-1786122000-1786140000@spdavos.ch
SUMMARY:SP@Promenade
DESCRIPTION:
URL:https://spdavos.ch/evenement/sppromenade/
END:VEVENT
BEGIN:VEVENT
DTSTART;TZID=Europe/Zurich:20260820T140000
DTEND;TZID=Europe/Zurich:20260820T180000
DTSTAMP:20260422T134241
CREATED:20241128T120307Z
LAST-MODIFIED:20251210T121000Z
UID:10000065-1787234400-1787248800@spdavos.ch
SUMMARY:Sitzung Grosser Landrat
DESCRIPTION:
URL:https://spdavos.ch/evenement/sitzung-grosser-landrat/2026-08-20/
LOCATION:Landratssaal Davos\, Promenade 43\, Davos Platz\, 7270\, Switzerland
END:VEVENT
BEGIN:VEVENT
DTSTART;TZID=Europe/Zurich:20260924T140000
DTEND;TZID=Europe/Zurich:20260924T180000
DTSTAMP:20260422T134241
CREATED:20241128T120307Z
LAST-MODIFIED:20251210T121000Z
UID:10000066-1790258400-1790272800@spdavos.ch
SUMMARY:Sitzung Grosser Landrat
DESCRIPTION:
URL:https://spdavos.ch/evenement/sitzung-grosser-landrat/2026-09-24/
LOCATION:Landratssaal Davos\, Promenade 43\, Davos Platz\, 7270\, Switzerland
END:VEVENT
BEGIN:VEVENT
DTSTART;VALUE=DATE:20260927
DTEND;VALUE=DATE:20260928
DTSTAMP:20260422T134241
CREATED:20251210T121551Z
LAST-MODIFIED:20251210T121551Z
UID:10000073-1790467200-1790551800@spdavos.ch
SUMMARY:Abstimmungssontag
DESCRIPTION:
URL:https://spdavos.ch/evenement/abstimmungssontag/2026-09-27/
END:VEVENT
BEGIN:VEVENT
DTSTART;TZID=Europe/Zurich:20261017T100000
DTEND;TZID=Europe/Zurich:20261018T160000
DTSTAMP:20260422T134241
CREATED:20241128T120719Z
LAST-MODIFIED:20251210T085434Z
UID:10000056-1792231200-1792339200@spdavos.ch
SUMMARY:Parteitag SP Schweiz
DESCRIPTION:
URL:https://spdavos.ch/evenement/parteitag-sp-schweiz/2026-10-17/
END:VEVENT
BEGIN:VEVENT
DTSTART;TZID=Europe/Zurich:20261022T200000
DTEND;TZID=Europe/Zurich:20261022T230000
DTSTAMP:20260422T134241
CREATED:20241128T115143Z
LAST-MODIFIED:20251210T121356Z
UID:10000070-1792699200-1792710000@spdavos.ch
SUMMARY:Mitgliederversammlung SP Davos
DESCRIPTION:
URL:https://spdavos.ch/evenement/mitgliederversammlung-sp-davos/2026-10-22/
LOCATION:Hotel Grischa
CATEGORIES:Mitgliederversammlung
END:VEVENT
BEGIN:VEVENT
DTSTART;VALUE=DATE:20261129
DTEND;VALUE=DATE:20261130
DTSTAMP:20260422T134241
CREATED:20251210T121551Z
LAST-MODIFIED:20251210T121551Z
UID:10000074-1795910400-1795995000@spdavos.ch
SUMMARY:Abstimmungssontag
DESCRIPTION:
URL:https://spdavos.ch/evenement/abstimmungssontag/2026-11-29/
END:VEVENT
END:VCALENDAR